BEGIN:VCALENDAR
VERSION:2.0
PRODID:-//Leigh Academy Tonbridge - ECPv6.15.20//NONSGML v1.0//EN
CALSCALE:GREGORIAN
METHOD:PUBLISH
X-WR-CALNAME:Leigh Academy Tonbridge
X-ORIGINAL-URL:https://leighacademytonbridge.org.uk
X-WR-CALDESC:Events for Leigh Academy Tonbridge
REFRESH-INTERVAL;VALUE=DURATION:PT1H
X-Robots-Tag:noindex
X-PUBLISHED-TTL:PT1H
BEGIN:VTIMEZONE
TZID:UTC
BEGIN:STANDARD
TZOFFSETFROM:+0000
TZOFFSETTO:+0000
TZNAME:UTC
DTSTART:20230101T000000
END:STANDARD
END:VTIMEZONE
BEGIN:VEVENT
DTSTART;TZID=UTC:20240104T080000
DTEND;TZID=UTC:20240208T153000
DTSTAMP:20260420T213549
CREATED:20230904T092234Z
LAST-MODIFIED:20230904T092234Z
UID:848-1704355200-1707406200@leighacademytonbridge.org.uk
SUMMARY:Module 3
DESCRIPTION:
URL:https://leighacademytonbridge.org.uk/event/module-3/
END:VEVENT
END:VCALENDAR