BEGIN:VCALENDAR
VERSION:2.0
PRODID:-//Leigh Academy Tonbridge - ECPv6.15.20//NONSGML v1.0//EN
CALSCALE:GREGORIAN
METHOD:PUBLISH
X-WR-CALNAME:Leigh Academy Tonbridge
X-ORIGINAL-URL:https://leighacademytonbridge.org.uk
X-WR-CALDESC:Events for Leigh Academy Tonbridge
REFRESH-INTERVAL;VALUE=DURATION:PT1H
X-Robots-Tag:noindex
X-PUBLISHED-TTL:PT1H
BEGIN:VTIMEZONE
TZID:UTC
BEGIN:STANDARD
TZOFFSETFROM:+0000
TZOFFSETTO:+0000
TZNAME:UTC
DTSTART:20210101T000000
END:STANDARD
END:VTIMEZONE
BEGIN:VEVENT
DTSTART;VALUE=DATE:20230817
DTEND;VALUE=DATE:20230818
DTSTAMP:20260421T004122
CREATED:20230210T121446Z
LAST-MODIFIED:20230210T121446Z
UID:536-1692230400-1692316799@leighacademytonbridge.org.uk
SUMMARY:A Level Exam Results Day
DESCRIPTION:
URL:https://leighacademytonbridge.org.uk/event/a-level-exam-results-day/
END:VEVENT
BEGIN:VEVENT
DTSTART;VALUE=DATE:20230711
DTEND;VALUE=DATE:20230712
DTSTAMP:20260421T004122
CREATED:20230303T142118Z
LAST-MODIFIED:20230303T142118Z
UID:544-1689033600-1689119999@leighacademytonbridge.org.uk
SUMMARY:Year 5 Taster Session
DESCRIPTION:
URL:https://leighacademytonbridge.org.uk/event/year-5-taster-session-3/
END:VEVENT
BEGIN:VEVENT
DTSTART;VALUE=DATE:20230706
DTEND;VALUE=DATE:20230707
DTSTAMP:20260421T004122
CREATED:20230210T121401Z
LAST-MODIFIED:20230210T121812Z
UID:535-1688601600-1688687999@leighacademytonbridge.org.uk
SUMMARY:Transition Day (New Year 7 Academic Year 23/24 Cohort)
DESCRIPTION:
URL:https://leighacademytonbridge.org.uk/event/transition-day-new-y7-ay-23-24-cohort/
END:VEVENT
BEGIN:VEVENT
DTSTART;VALUE=DATE:20230704
DTEND;VALUE=DATE:20230705
DTSTAMP:20260421T004122
CREATED:20230303T142051Z
LAST-MODIFIED:20230303T142051Z
UID:543-1688428800-1688515199@leighacademytonbridge.org.uk
SUMMARY:Year 5 Taster Session
DESCRIPTION:
URL:https://leighacademytonbridge.org.uk/event/year-5-taster-session-2/
END:VEVENT
BEGIN:VEVENT
DTSTART;VALUE=DATE:20230627
DTEND;VALUE=DATE:20230628
DTSTAMP:20260421T004122
CREATED:20230303T142032Z
LAST-MODIFIED:20230303T142032Z
UID:542-1687824000-1687910399@leighacademytonbridge.org.uk
SUMMARY:Year 5 Taster Session
DESCRIPTION:
URL:https://leighacademytonbridge.org.uk/event/year-5-taster-session/
END:VEVENT
BEGIN:VEVENT
DTSTART;VALUE=DATE:20230321
DTEND;VALUE=DATE:20230322
DTSTAMP:20260421T004122
CREATED:20230210T121300Z
LAST-MODIFIED:20230210T121300Z
UID:534-1679356800-1679443199@leighacademytonbridge.org.uk
SUMMARY:Year 7 Parents' Evening
DESCRIPTION:
URL:https://leighacademytonbridge.org.uk/event/year-7-parents-evening/
END:VEVENT
BEGIN:VEVENT
DTSTART;VALUE=DATE:20230309
DTEND;VALUE=DATE:20230310
DTSTAMP:20260421T004122
CREATED:20230210T121223Z
LAST-MODIFIED:20230210T121858Z
UID:533-1678320000-1678406399@leighacademytonbridge.org.uk
SUMMARY:Welcome Evening (New Year 7 Academic Year 23/24 Cohort)
DESCRIPTION:
URL:https://leighacademytonbridge.org.uk/event/welcome-evening-new-y7-ay-23-24-cohort/
END:VEVENT
BEGIN:VEVENT
DTSTART;VALUE=DATE:20230307
DTEND;VALUE=DATE:20230308
DTSTAMP:20260421T004122
CREATED:20230210T121122Z
LAST-MODIFIED:20230210T121122Z
UID:532-1678147200-1678233599@leighacademytonbridge.org.uk
SUMMARY:Year 10 Parents' Evening
DESCRIPTION:
URL:https://leighacademytonbridge.org.uk/event/year-10-parents-evening/
END:VEVENT
BEGIN:VEVENT
DTSTART;VALUE=DATE:20230228
DTEND;VALUE=DATE:20230301
DTSTAMP:20260421T004122
CREATED:20230210T120956Z
LAST-MODIFIED:20230210T120956Z
UID:530-1677542400-1677628799@leighacademytonbridge.org.uk
SUMMARY:Year 9 Parents' Evening
DESCRIPTION:
URL:https://leighacademytonbridge.org.uk/event/year-9-parents-evening/
END:VEVENT
BEGIN:VEVENT
DTSTART;VALUE=DATE:20230227
DTEND;VALUE=DATE:20230316
DTSTAMP:20260421T004122
CREATED:20230210T120902Z
LAST-MODIFIED:20230210T120902Z
UID:529-1677456000-1678924799@leighacademytonbridge.org.uk
SUMMARY:Mock Exams
DESCRIPTION:
URL:https://leighacademytonbridge.org.uk/event/mock-exams/
END:VEVENT
BEGIN:VEVENT
DTSTART;VALUE=DATE:20230221
DTEND;VALUE=DATE:20230222
DTSTAMP:20260421T004122
CREATED:20230210T120800Z
LAST-MODIFIED:20230210T120800Z
UID:528-1676937600-1677023999@leighacademytonbridge.org.uk
SUMMARY:Year 8 Parents' Evening
DESCRIPTION:
URL:https://leighacademytonbridge.org.uk/event/year-8-parents-evening/
END:VEVENT
BEGIN:VEVENT
DTSTART;TZID=UTC:20221124T173000
DTEND;TZID=UTC:20221124T190000
DTSTAMP:20260421T004122
CREATED:20221108T093522Z
LAST-MODIFIED:20221108T093522Z
UID:488-1669311000-1669316400@leighacademytonbridge.org.uk
SUMMARY:Sixth Form Open Evening
DESCRIPTION:
URL:https://leighacademytonbridge.org.uk/event/sixth-form-open-evening/
END:VEVENT
BEGIN:VEVENT
DTSTART;VALUE=DATE:20220909
DTEND;VALUE=DATE:20220910
DTSTAMP:20260421T004122
CREATED:20220804T131253Z
LAST-MODIFIED:20220804T131253Z
UID:349-1662681600-1662767999@leighacademytonbridge.org.uk
SUMMARY:Tempest School photos
DESCRIPTION:
URL:https://leighacademytonbridge.org.uk/event/tempest-school-photos/
END:VEVENT
BEGIN:VEVENT
DTSTART;VALUE=DATE:20220905
DTEND;VALUE=DATE:20220906
DTSTAMP:20260421T004122
CREATED:20220804T131131Z
LAST-MODIFIED:20220804T131131Z
UID:348-1662336000-1662422399@leighacademytonbridge.org.uk
SUMMARY:HPV Vaccinations Year 8 and 9
DESCRIPTION:
URL:https://leighacademytonbridge.org.uk/event/hpv-vaccinations-year-8-and-9/
END:VEVENT
END:VCALENDAR